<?xml version="1.0"?>
<Capabilities xmlns="http://www.opengis.net/wmts/1.0" xmlns:ows="http://www.opengis.net/ows/1.1" xmlns:xlink="http://www.w3.org/1999/xlink" xmlns:xsi="http://www.w3.org/2001/XMLSchema-instance" xmlns:gml="http://www.opengis.net/gml" xsi:schemaLocation="http://www.opengis.net/wmts/1.0 http://schemas.opengis.net/wmts/1.0/wmtsGetCapabilities_response.xsd" version="1.0.0">
  <ows:ServiceIdentification>
    <ows:Title></ows:Title>
    <ows:Abstract></ows:Abstract>
    <ows:ServiceType>OGC WMTS</ows:ServiceType>
    <ows:ServiceTypeVersion>1.0.0</ows:ServiceTypeVersion>
    <ows:Fees>none</ows:Fees>
    <ows:AccessConstraints>none</ows:AccessConstraints>
  </ows:ServiceIdentification>
  <Contents>
    <Layer>
      <ows:Title>stp_fwp_0426</ows:Title>
      <ows:Abstract></ows:Abstract>
      <ows:WGS84BoundingBox>
        <ows:LowerCorner>15.523633711271149 48.10561843308437</ows:LowerCorner>
        <ows:UpperCorner>15.795014758603656 48.28705430244003</ows:UpperCorner>
      </ows:WGS84BoundingBox>
      <ows:Identifier>stp_fwp_0426</ows:Identifier>
      <Style>
        <ows:Identifier>default</ows:Identifier>
      </Style>
      <Format>image/png</Format>
      <TileMatrixSetLink>
        <TileMatrixSet>stp_web_mercator</TileMatrixSet>
      </TileMatrixSetLink>
      <ResourceURL format="image/png" resourceType="tile"
        template="https://cache.map2web.eu/stp_fwp_0426/wmts/stp_fwp_0426/{TileMatrixSet}/{TileMatrix}/{TileCol}/{TileRow}.png"/>
    </Layer>
    <TileMatrixSet>
      <ows:Identifier>stp_web_mercator</ows:Identifier>
      <ows:SupportedCRS>EPSG:3857</ows:SupportedCRS>
      <TileMatrix>
        <ows:Identifier>00</ows:Identifier>
        <ScaleDenominator>559082264.0287176</ScaleDenominator>
        <TopLeftCorner>1728083.0 6154744.0</TopLeftCorner>
        <TileWidth>256</TileWidth>
        <TileHeight>256</TileHeight>
        <MatrixWidth>1</MatrixWidth>
        <MatrixHeight>1</MatrixHeight>
      </TileMatrix>
      <TileMatrix>
        <ows:Identifier>01</ows:Identifier>
        <ScaleDenominator>279541132.0143588</ScaleDenominator>
        <TopLeftCorner>1728083.0 6154744.0</TopLeftCorner>
        <TileWidth>256</TileWidth>
        <TileHeight>256</TileHeight>
        <MatrixWidth>1</MatrixWidth>
        <MatrixHeight>1</MatrixHeight>
      </TileMatrix>
      <TileMatrix>
        <ows:Identifier>02</ows:Identifier>
        <ScaleDenominator>139770566.0071794</ScaleDenominator>
        <TopLeftCorner>1728083.0 6154744.0</TopLeftCorner>
        <TileWidth>256</TileWidth>
        <TileHeight>256</TileHeight>
        <MatrixWidth>1</MatrixWidth>
        <MatrixHeight>1</MatrixHeight>
      </TileMatrix>
      <TileMatrix>
        <ows:Identifier>03</ows:Identifier>
        <ScaleDenominator>69885283.0035897</ScaleDenominator>
        <TopLeftCorner>1728083.0 6154744.0</TopLeftCorner>
        <TileWidth>256</TileWidth>
        <TileHeight>256</TileHeight>
        <MatrixWidth>1</MatrixWidth>
        <MatrixHeight>1</MatrixHeight>
      </TileMatrix>
      <TileMatrix>
        <ows:Identifier>04</ows:Identifier>
        <ScaleDenominator>34942641.50179485</ScaleDenominator>
        <TopLeftCorner>1728083.0 6154744.0</TopLeftCorner>
        <TileWidth>256</TileWidth>
        <TileHeight>256</TileHeight>
        <MatrixWidth>1</MatrixWidth>
        <MatrixHeight>1</MatrixHeight>
      </TileMatrix>
      <TileMatrix>
        <ows:Identifier>05</ows:Identifier>
        <ScaleDenominator>17471320.750897426</ScaleDenominator>
        <TopLeftCorner>1728083.0 6154744.0</TopLeftCorner>
        <TileWidth>256</TileWidth>
        <TileHeight>256</TileHeight>
        <MatrixWidth>1</MatrixWidth>
        <MatrixHeight>1</MatrixHeight>
      </TileMatrix>
      <TileMatrix>
        <ows:Identifier>06</ows:Identifier>
        <ScaleDenominator>8735660.375448713</ScaleDenominator>
        <TopLeftCorner>1728083.0 6154744.0</TopLeftCorner>
        <TileWidth>256</TileWidth>
        <TileHeight>256</TileHeight>
        <MatrixWidth>1</MatrixWidth>
        <MatrixHeight>1</MatrixHeight>
      </TileMatrix>
      <TileMatrix>
        <ows:Identifier>07</ows:Identifier>
        <ScaleDenominator>4367830.187724357</ScaleDenominator>
        <TopLeftCorner>1728083.0 6154744.0</TopLeftCorner>
        <TileWidth>256</TileWidth>
        <TileHeight>256</TileHeight>
        <MatrixWidth>1</MatrixWidth>
        <MatrixHeight>1</MatrixHeight>
      </TileMatrix>
      <TileMatrix>
        <ows:Identifier>08</ows:Identifier>
        <ScaleDenominator>2183915.0938621783</ScaleDenominator>
        <TopLeftCorner>1728083.0 6154744.0</TopLeftCorner>
        <TileWidth>256</TileWidth>
        <TileHeight>256</TileHeight>
        <MatrixWidth>1</MatrixWidth>
        <MatrixHeight>1</MatrixHeight>
      </TileMatrix>
      <TileMatrix>
        <ows:Identifier>09</ows:Identifier>
        <ScaleDenominator>1091957.5469310891</ScaleDenominator>
        <TopLeftCorner>1728083.0 6154744.0</TopLeftCorner>
        <TileWidth>256</TileWidth>
        <TileHeight>256</TileHeight>
        <MatrixWidth>1</MatrixWidth>
        <MatrixHeight>1</MatrixHeight>
      </TileMatrix>
      <TileMatrix>
        <ows:Identifier>10</ows:Identifier>
        <ScaleDenominator>545978.7734655446</ScaleDenominator>
        <TopLeftCorner>1728083.0 6154744.0</TopLeftCorner>
        <TileWidth>256</TileWidth>
        <TileHeight>256</TileHeight>
        <MatrixWidth>1</MatrixWidth>
        <MatrixHeight>1</MatrixHeight>
      </TileMatrix>
      <TileMatrix>
        <ows:Identifier>11</ows:Identifier>
        <ScaleDenominator>272989.3867327723</ScaleDenominator>
        <TopLeftCorner>1728083.0 6154744.0</TopLeftCorner>
        <TileWidth>256</TileWidth>
        <TileHeight>256</TileHeight>
        <MatrixWidth>2</MatrixWidth>
        <MatrixHeight>2</MatrixHeight>
      </TileMatrix>
      <TileMatrix>
        <ows:Identifier>12</ows:Identifier>
        <ScaleDenominator>136494.69336638614</ScaleDenominator>
        <TopLeftCorner>1728083.0 6154744.0</TopLeftCorner>
        <TileWidth>256</TileWidth>
        <TileHeight>256</TileHeight>
        <MatrixWidth>4</MatrixWidth>
        <MatrixHeight>4</MatrixHeight>
      </TileMatrix>
      <TileMatrix>
        <ows:Identifier>13</ows:Identifier>
        <ScaleDenominator>68247.34668319307</ScaleDenominator>
        <TopLeftCorner>1728083.0 6154744.0</TopLeftCorner>
        <TileWidth>256</TileWidth>
        <TileHeight>256</TileHeight>
        <MatrixWidth>7</MatrixWidth>
        <MatrixHeight>7</MatrixHeight>
      </TileMatrix>
      <TileMatrix>
        <ows:Identifier>14</ows:Identifier>
        <ScaleDenominator>34123.673341596535</ScaleDenominator>
        <TopLeftCorner>1728083.0 6154744.0</TopLeftCorner>
        <TileWidth>256</TileWidth>
        <TileHeight>256</TileHeight>
        <MatrixWidth>13</MatrixWidth>
        <MatrixHeight>13</MatrixHeight>
      </TileMatrix>
      <TileMatrix>
        <ows:Identifier>15</ows:Identifier>
        <ScaleDenominator>17061.836670798268</ScaleDenominator>
        <TopLeftCorner>1728083.0 6154744.0</TopLeftCorner>
        <TileWidth>256</TileWidth>
        <TileHeight>256</TileHeight>
        <MatrixWidth>25</MatrixWidth>
        <MatrixHeight>25</MatrixHeight>
      </TileMatrix>
      <TileMatrix>
        <ows:Identifier>16</ows:Identifier>
        <ScaleDenominator>8530.918335399134</ScaleDenominator>
        <TopLeftCorner>1728083.0 6154744.0</TopLeftCorner>
        <TileWidth>256</TileWidth>
        <TileHeight>256</TileHeight>
        <MatrixWidth>50</MatrixWidth>
        <MatrixHeight>50</MatrixHeight>
      </TileMatrix>
      <TileMatrix>
        <ows:Identifier>17</ows:Identifier>
        <ScaleDenominator>4265.459167699567</ScaleDenominator>
        <TopLeftCorner>1728083.0 6154744.0</TopLeftCorner>
        <TileWidth>256</TileWidth>
        <TileHeight>256</TileHeight>
        <MatrixWidth>99</MatrixWidth>
        <MatrixHeight>100</MatrixHeight>
      </TileMatrix>
      <TileMatrix>
        <ows:Identifier>18</ows:Identifier>
        <ScaleDenominator>2132.7295838497835</ScaleDenominator>
        <TopLeftCorner>1728083.0 6154744.0</TopLeftCorner>
        <TileWidth>256</TileWidth>
        <TileHeight>256</TileHeight>
        <MatrixWidth>198</MatrixWidth>
        <MatrixHeight>199</MatrixHeight>
      </TileMatrix>
      <TileMatrix>
        <ows:Identifier>19</ows:Identifier>
        <ScaleDenominator>1066.3647919248917</ScaleDenominator>
        <TopLeftCorner>1728083.0 6154744.0</TopLeftCorner>
        <TileWidth>256</TileWidth>
        <TileHeight>256</TileHeight>
        <MatrixWidth>396</MatrixWidth>
        <MatrixHeight>397</MatrixHeight>
      </TileMatrix>
      <TileMatrix>
        <ows:Identifier>20</ows:Identifier>
        <ScaleDenominator>533.1823959624459</ScaleDenominator>
        <TopLeftCorner>1728083.0 6154744.0</TopLeftCorner>
        <TileWidth>256</TileWidth>
        <TileHeight>256</TileHeight>
        <MatrixWidth>791</MatrixWidth>
        <MatrixHeight>793</MatrixHeight>
      </TileMatrix>
    </TileMatrixSet>
  </Contents>
  <ServiceMetadataURL xlink:href="https://cache.map2web.eu/stp_fwp_0426/wmts/1.0.0/WMTSCapabilities.xml"/>
</Capabilities>